Package: BioNAR Version: 1.2.5 Command: /home/biocbuild/bbs-3.17-bioc/R/bin/R CMD INSTALL BioNAR StartedAt: 2023-10-15 15:48:22 -0400 (Sun, 15 Oct 2023) EndedAt: 2023-10-15 15:49:03 -0400 (Sun, 15 Oct 2023) EllapsedTime: 41.3 seconds RetCode: 0 Status: OK