Package: BioNAR Version: 1.2.5 Command: /home/biocbuild/bbs-3.17-bioc/R/bin/R CMD check --install=check:BioNAR.install-out.txt --library=/home/biocbuild/bbs-3.17-bioc/R/site-library --timings BioNAR_1.2.5.tar.gz StartedAt: 2023-10-15 19:37:12 -0400 (Sun, 15 Oct 2023) EndedAt: 2023-10-15 19:48:18 -0400 (Sun, 15 Oct 2023) EllapsedTime: 666.1 seconds RetCode: 0 Status: OK CheckDir: BioNAR.Rcheck Warnings: 0