Package: BioNAR Version: 1.2.5 Command: /home/biocbuild/bbs-3.17-bioc/R/bin/R CMD build --keep-empty-dirs --no-resave-data BioNAR StartedAt: 2023-10-15 16:06:28 -0400 (Sun, 15 Oct 2023) EndedAt: 2023-10-15 16:09:44 -0400 (Sun, 15 Oct 2023) EllapsedTime: 196.6 seconds RetCode: 0 Status: OK PackageFile: BioNAR_1.2.5.tar.gz PackageFileSize: 2.543 MiB