Package: BioNAR Version: 1.2.5 Command: /Library/Frameworks/R.framework/Resources/bin/R CMD INSTALL BioNAR StartedAt: 2023-10-15 16:29:04 -0400 (Sun, 15 Oct 2023) EndedAt: 2023-10-15 16:31:16 -0400 (Sun, 15 Oct 2023) EllapsedTime: 132.5 seconds RetCode: 0 Status: OK