Package: BioMVCClass Version: 1.68.0 Command: chmod a+r BioMVCClass -R && F:\biocbuild\bbs-3.17-bioc\R\bin\R.exe CMD build --keep-empty-dirs --no-resave-data BioMVCClass StartedAt: 2023-10-15 17:44:45 -0400 (Sun, 15 Oct 2023) EndedAt: 2023-10-15 17:44:59 -0400 (Sun, 15 Oct 2023) EllapsedTime: 13.4 seconds RetCode: 0 Status: OK PackageFile: BioMVCClass_1.68.0.tar.gz PackageFileSize: 132.1 KiB