Package: BioMVCClass Version: 1.68.0 Command: rm -rf BioMVCClass.buildbin-libdir && mkdir BioMVCClass.buildbin-libdir && F:\biocbuild\bbs-3.17-bioc\R\bin\R.exe CMD INSTALL --build --library=BioMVCClass.buildbin-libdir BioMVCClass_1.68.0.tar.gz StartedAt: 2023-10-16 08:29:35 -0400 (Mon, 16 Oct 2023) EndedAt: 2023-10-16 08:29:46 -0400 (Mon, 16 Oct 2023) EllapsedTime: 10.7 seconds RetCode: 0 Status: OK PackageFile: BioMVCClass_1.68.0.zip PackageFileSize: 147.7 KiB