Package: BioMVCClass Version: 1.68.0 Command: /home/biocbuild/bbs-3.17-bioc/R/bin/R CMD check --install=check:BioMVCClass.install-out.txt --library=/home/biocbuild/bbs-3.17-bioc/R/site-library --timings BioMVCClass_1.68.0.tar.gz StartedAt: 2023-10-15 19:37:10 -0400 (Sun, 15 Oct 2023) EndedAt: 2023-10-15 19:37:48 -0400 (Sun, 15 Oct 2023) EllapsedTime: 38.0 seconds RetCode: 0 Status: OK CheckDir: BioMVCClass.Rcheck Warnings: 0