Package: BioMVCClass Version: 1.68.0 Command: /Library/Frameworks/R.framework/Resources/bin/R CMD check --install=check:BioMVCClass.install-out.txt --library=/Library/Frameworks/R.framework/Resources/library --no-vignettes --timings BioMVCClass_1.68.0.tar.gz StartedAt: 2023-10-15 23:09:14 -0400 (Sun, 15 Oct 2023) EndedAt: 2023-10-15 23:10:37 -0400 (Sun, 15 Oct 2023) EllapsedTime: 83.3 seconds RetCode: 0 Status: OK CheckDir: BioMVCClass.Rcheck Warnings: 0