Package: BioMVCClass Version: 1.68.0 Command: /Library/Frameworks/R.framework/Resources/bin/R CMD build --keep-empty-dirs --no-resave-data BioMVCClass StartedAt: 2023-10-15 17:02:47 -0400 (Sun, 15 Oct 2023) EndedAt: 2023-10-15 17:03:07 -0400 (Sun, 15 Oct 2023) EllapsedTime: 19.4 seconds RetCode: 0 Status: OK PackageFile: BioMVCClass_1.68.0.tar.gz PackageFileSize: 131.3 KiB