Package: BioMM Version: 1.15.0 Command: /home/biocbuild/bbs-3.17-bioc/R/bin/R CMD check --install=check:BioMM.install-out.txt --library=/home/biocbuild/bbs-3.17-bioc/R/library --timings BioMM_1.15.0.tar.gz StartedAt: 2023-02-08 19:16:00 -0500 (Wed, 08 Feb 2023) EndedAt: 2023-02-08 19:19:20 -0500 (Wed, 08 Feb 2023) EllapsedTime: 199.9 seconds RetCode: 0 Status: OK CheckDir: BioMM.Rcheck Warnings: 0