Package: BioMM Version: 1.16.0 Command: /Library/Frameworks/R.framework/Resources/bin/R CMD build --keep-empty-dirs --no-resave-data BioMM StartedAt: 2023-10-15 17:02:45 -0400 (Sun, 15 Oct 2023) EndedAt: 2023-10-15 17:05:55 -0400 (Sun, 15 Oct 2023) EllapsedTime: 189.8 seconds RetCode: 1 Status: ERROR PackageFile: None PackageFileSize: NA