Package: BioMM Version: 1.15.0 Command: rm -rf BioMM.buildbin-libdir && mkdir BioMM.buildbin-libdir && /Users/biocbuild/BBS/utils/build-universal.sh BioMM_1.15.0.tar.gz /Library/Frameworks/R.framework/Resources/bin/R BioMM.buildbin-libdir StartedAt: 2023-02-09 08:26:55 -0500 (Thu, 09 Feb 2023) EndedAt: 2023-02-09 08:27:34 -0500 (Thu, 09 Feb 2023) EllapsedTime: 38.2 seconds RetCode: 0 Status: OK PackageFile: BioMM_1.15.0.tgz PackageFileSize: 2.927 MiB