Package: BindingSiteFinder Version: 1.6.0 Command: chmod a+r BindingSiteFinder -R && F:\biocbuild\bbs-3.17-bioc\R\bin\R.exe CMD build --keep-empty-dirs --no-resave-data BindingSiteFinder StartedAt: 2023-10-15 17:35:50 -0400 (Sun, 15 Oct 2023) EndedAt: 2023-10-15 17:38:41 -0400 (Sun, 15 Oct 2023) EllapsedTime: 171.2 seconds RetCode: 0 Status: OK PackageFile: BindingSiteFinder_1.6.0.tar.gz PackageFileSize: 1.645 MiB