Package: BindingSiteFinder Version: 1.6.0 Command: rm -rf BindingSiteFinder.buildbin-libdir && mkdir BindingSiteFinder.buildbin-libdir && F:\biocbuild\bbs-3.17-bioc\R\bin\R.exe CMD INSTALL --build --library=BindingSiteFinder.buildbin-libdir BindingSiteFinder_1.6.0.tar.gz StartedAt: 2023-10-16 08:28:27 -0400 (Mon, 16 Oct 2023) EndedAt: 2023-10-16 08:29:29 -0400 (Mon, 16 Oct 2023) EllapsedTime: 62.8 seconds RetCode: 0 Status: OK PackageFile: BindingSiteFinder_1.6.0.zip PackageFileSize: 1.986 MiB