Package: BindingSiteFinder Version: 1.6.0 Command: /Library/Frameworks/R.framework/Resources/bin/R CMD check --install=check:BindingSiteFinder.install-out.txt --library=/Library/Frameworks/R.framework/Resources/library --no-vignettes --timings BindingSiteFinder_1.6.0.tar.gz StartedAt: 2023-10-15 22:56:49 -0400 (Sun, 15 Oct 2023) EndedAt: 2023-10-15 23:14:05 -0400 (Sun, 15 Oct 2023) EllapsedTime: 1036.1 seconds RetCode: 0 Status: OK CheckDir: BindingSiteFinder.Rcheck Warnings: 0