Package: BicARE Version: 1.58.0 Command: /home/biocbuild/bbs-3.17-bioc/R/bin/R CMD build --keep-empty-dirs --no-resave-data BicARE StartedAt: 2023-10-15 16:02:55 -0400 (Sun, 15 Oct 2023) EndedAt: 2023-10-15 16:05:09 -0400 (Sun, 15 Oct 2023) EllapsedTime: 133.7 seconds RetCode: 0 Status: OK PackageFile: BicARE_1.58.0.tar.gz PackageFileSize: 329.5 KiB