Package: BiSeq Version: 1.40.0 Command: chmod a+r BiSeq -R && F:\biocbuild\bbs-3.17-bioc\R\bin\R.exe CMD build --keep-empty-dirs --no-resave-data BiSeq StartedAt: 2023-10-15 17:47:29 -0400 (Sun, 15 Oct 2023) EndedAt: 2023-10-15 17:49:36 -0400 (Sun, 15 Oct 2023) EllapsedTime: 126.3 seconds RetCode: 0 Status: OK PackageFile: BiSeq_1.40.0.tar.gz PackageFileSize: 917.9 KiB