Package: BiSeq Version: 1.40.0 Command: rm -rf BiSeq.buildbin-libdir && mkdir BiSeq.buildbin-libdir && F:\biocbuild\bbs-3.17-bioc\R\bin\R.exe CMD INSTALL --build --library=BiSeq.buildbin-libdir BiSeq_1.40.0.tar.gz StartedAt: 2023-10-16 08:30:01 -0400 (Mon, 16 Oct 2023) EndedAt: 2023-10-16 08:30:52 -0400 (Mon, 16 Oct 2023) EllapsedTime: 51.0 seconds RetCode: 0 Status: OK PackageFile: BiSeq_1.40.0.zip PackageFileSize: 1.16 MiB