Package: BiSeq Version: 1.40.0 Command: /home/biocbuild/bbs-3.17-bioc/R/bin/R CMD INSTALL BiSeq StartedAt: 2023-10-15 15:37:47 -0400 (Sun, 15 Oct 2023) EndedAt: 2023-10-15 15:38:28 -0400 (Sun, 15 Oct 2023) EllapsedTime: 40.3 seconds RetCode: 0 Status: OK