Package: BiSeq Version: 1.40.0 Command: /home/biocbuild/bbs-3.17-bioc/R/bin/R CMD check --install=check:BiSeq.install-out.txt --library=/home/biocbuild/bbs-3.17-bioc/R/site-library --timings BiSeq_1.40.0.tar.gz StartedAt: 2023-10-15 19:39:27 -0400 (Sun, 15 Oct 2023) EndedAt: 2023-10-15 19:46:32 -0400 (Sun, 15 Oct 2023) EllapsedTime: 424.6 seconds RetCode: 0 Status: OK CheckDir: BiSeq.Rcheck Warnings: 0