Package: BiSeq Version: 1.40.0 Command: /home/biocbuild/bbs-3.17-bioc/R/bin/R CMD build --keep-empty-dirs --no-resave-data BiSeq StartedAt: 2023-10-15 16:07:23 -0400 (Sun, 15 Oct 2023) EndedAt: 2023-10-15 16:09:15 -0400 (Sun, 15 Oct 2023) EllapsedTime: 112.8 seconds RetCode: 0 Status: OK PackageFile: BiSeq_1.40.0.tar.gz PackageFileSize: 915.4 KiB