Package: BiRewire Version: 3.32.0 Command: chmod a+r BiRewire -R && F:\biocbuild\bbs-3.17-bioc\R\bin\R.exe CMD build --keep-empty-dirs --no-resave-data BiRewire StartedAt: 2023-10-15 17:46:11 -0400 (Sun, 15 Oct 2023) EndedAt: 2023-10-15 17:47:28 -0400 (Sun, 15 Oct 2023) EllapsedTime: 76.9 seconds RetCode: 0 Status: OK PackageFile: BiRewire_3.32.0.tar.gz PackageFileSize: 606.2 KiB