Package: BiRewire Version: 3.32.0 Command: rm -rf BiRewire.buildbin-libdir && mkdir BiRewire.buildbin-libdir && F:\biocbuild\bbs-3.17-bioc\R\bin\R.exe CMD INSTALL --build --library=BiRewire.buildbin-libdir BiRewire_3.32.0.tar.gz StartedAt: 2023-10-16 08:29:53 -0400 (Mon, 16 Oct 2023) EndedAt: 2023-10-16 08:30:06 -0400 (Mon, 16 Oct 2023) EllapsedTime: 13.3 seconds RetCode: 0 Status: OK PackageFile: BiRewire_3.32.0.zip PackageFileSize: 623.6 KiB