Package: BiRewire Version: 3.32.0 Command: /home/biocbuild/bbs-3.17-bioc/R/bin/R CMD build --keep-empty-dirs --no-resave-data BiRewire StartedAt: 2023-10-15 16:07:16 -0400 (Sun, 15 Oct 2023) EndedAt: 2023-10-15 16:08:07 -0400 (Sun, 15 Oct 2023) EllapsedTime: 51.3 seconds RetCode: 0 Status: OK PackageFile: BiRewire_3.32.0.tar.gz PackageFileSize: 603 KiB