Package: BiRewire Version: 3.32.0 Command: /Library/Frameworks/R.framework/Resources/bin/R CMD check --install=check:BiRewire.install-out.txt --library=/Library/Frameworks/R.framework/Resources/library --no-vignettes --timings BiRewire_3.32.0.tar.gz StartedAt: 2023-10-15 23:11:13 -0400 (Sun, 15 Oct 2023) EndedAt: 2023-10-15 23:16:21 -0400 (Sun, 15 Oct 2023) EllapsedTime: 307.9 seconds RetCode: 0 Status: OK CheckDir: BiRewire.Rcheck Warnings: 0