Package: BiRewire Version: 3.32.0 Command: rm -rf BiRewire.buildbin-libdir && mkdir BiRewire.buildbin-libdir && /Users/biocbuild/BBS/utils/build-universal.sh BiRewire_3.32.0.tar.gz /Library/Frameworks/R.framework/Resources/bin/R BiRewire.buildbin-libdir StartedAt: 2023-10-16 09:03:03 -0400 (Mon, 16 Oct 2023) EndedAt: 2023-10-16 09:03:33 -0400 (Mon, 16 Oct 2023) EllapsedTime: 29.7 seconds RetCode: 0 Status: OK PackageFile: BiRewire_3.32.0.tgz PackageFileSize: 738.6 KiB