Package: BiGGR Version: 1.36.0 Command: F:\biocbuild\bbs-3.17-bioc\R\bin\R.exe CMD check --no-multiarch --install=check:BiGGR.install-out.txt --library=F:\biocbuild\bbs-3.17-bioc\R\library --no-vignettes --timings BiGGR_1.36.0.tar.gz StartedAt: 2023-10-15 23:49:02 -0400 (Sun, 15 Oct 2023) EndedAt: 2023-10-15 23:53:30 -0400 (Sun, 15 Oct 2023) EllapsedTime: 267.7 seconds RetCode: 0 Status: OK CheckDir: BiGGR.Rcheck Warnings: 0