Package: BiGGR Version: 1.36.0 Command: chmod a+r BiGGR -R && F:\biocbuild\bbs-3.17-bioc\R\bin\R.exe CMD build --keep-empty-dirs --no-resave-data BiGGR StartedAt: 2023-10-15 17:35:20 -0400 (Sun, 15 Oct 2023) EndedAt: 2023-10-15 17:35:49 -0400 (Sun, 15 Oct 2023) EllapsedTime: 28.6 seconds RetCode: 0 Status: OK PackageFile: BiGGR_1.36.0.tar.gz PackageFileSize: 4.194 MiB