Package: BiGGR Version: 1.36.0 Command: rm -rf BiGGR.buildbin-libdir && mkdir BiGGR.buildbin-libdir && F:\biocbuild\bbs-3.17-bioc\R\bin\R.exe CMD INSTALL --build --library=BiGGR.buildbin-libdir BiGGR_1.36.0.tar.gz StartedAt: 2023-10-16 08:28:22 -0400 (Mon, 16 Oct 2023) EndedAt: 2023-10-16 08:28:34 -0400 (Mon, 16 Oct 2023) EllapsedTime: 13.0 seconds RetCode: 0 Status: OK PackageFile: BiGGR_1.36.0.zip PackageFileSize: 4.273 MiB