Package: BiGGR Version: 1.36.0 Command: /home/biocbuild/bbs-3.17-bioc/R/bin/R CMD check --install=check:BiGGR.install-out.txt --library=/home/biocbuild/bbs-3.17-bioc/R/site-library --timings BiGGR_1.36.0.tar.gz StartedAt: 2023-10-15 19:29:17 -0400 (Sun, 15 Oct 2023) EndedAt: 2023-10-15 19:33:13 -0400 (Sun, 15 Oct 2023) EllapsedTime: 236.6 seconds RetCode: 0 Status: OK CheckDir: BiGGR.Rcheck Warnings: 0