Package: BiGGR Version: 1.36.0 Command: /home/biocbuild/bbs-3.17-bioc/R/bin/R CMD build --keep-empty-dirs --no-resave-data BiGGR StartedAt: 2023-10-15 16:03:13 -0400 (Sun, 15 Oct 2023) EndedAt: 2023-10-15 16:03:29 -0400 (Sun, 15 Oct 2023) EllapsedTime: 16.3 seconds RetCode: 0 Status: OK PackageFile: BiGGR_1.36.0.tar.gz PackageFileSize: 4.192 MiB