Package: BgeeCall Version: 1.16.0 Command: chmod a+r BgeeCall -R && F:\biocbuild\bbs-3.17-bioc\R\bin\R.exe CMD build --keep-empty-dirs --no-resave-data BgeeCall StartedAt: 2023-10-15 17:32:55 -0400 (Sun, 15 Oct 2023) EndedAt: 2023-10-15 17:35:04 -0400 (Sun, 15 Oct 2023) EllapsedTime: 129.9 seconds RetCode: 1 Status: ERROR PackageFile: None PackageFileSize: NA