Package: BgeeCall Version: 1.16.0 Command: /home/biocbuild/bbs-3.17-bioc/R/bin/R CMD INSTALL BgeeCall StartedAt: 2023-10-15 15:22:38 -0400 (Sun, 15 Oct 2023) EndedAt: 2023-10-15 15:23:18 -0400 (Sun, 15 Oct 2023) EllapsedTime: 40.0 seconds RetCode: 0 Status: OK