Package: BeadDataPackR Version: 1.52.0 Command: /Library/Frameworks/R.framework/Resources/bin/R CMD check --install=check:BeadDataPackR.install-out.txt --library=/Library/Frameworks/R.framework/Resources/library --no-vignettes --timings BeadDataPackR_1.52.0.tar.gz StartedAt: 2023-10-15 22:52:54 -0400 (Sun, 15 Oct 2023) EndedAt: 2023-10-15 22:53:42 -0400 (Sun, 15 Oct 2023) EllapsedTime: 47.6 seconds RetCode: 0 Status: OK CheckDir: BeadDataPackR.Rcheck Warnings: 0