Package: BeadDataPackR Version: 1.52.0 Command: /Library/Frameworks/R.framework/Resources/bin/R CMD build --keep-empty-dirs --no-resave-data BeadDataPackR StartedAt: 2023-10-15 16:52:46 -0400 (Sun, 15 Oct 2023) EndedAt: 2023-10-15 16:53:08 -0400 (Sun, 15 Oct 2023) EllapsedTime: 21.9 seconds RetCode: 0 Status: OK PackageFile: BeadDataPackR_1.52.0.tar.gz PackageFileSize: 235.7 KiB