Package: BayesSpace Version: 1.10.1 Command: F:\biocbuild\bbs-3.17-bioc\R\bin\R.exe CMD check --no-multiarch --install=check:BayesSpace.install-out.txt --library=F:\biocbuild\bbs-3.17-bioc\R\library --no-vignettes --timings BayesSpace_1.10.1.tar.gz StartedAt: 2023-10-15 23:43:50 -0400 (Sun, 15 Oct 2023) EndedAt: 2023-10-15 23:48:34 -0400 (Sun, 15 Oct 2023) EllapsedTime: 284.1 seconds RetCode: 0 Status: OK CheckDir: BayesSpace.Rcheck Warnings: 0