Package: BayesSpace Version: 1.10.1 Command: rm -rf BayesSpace.buildbin-libdir && mkdir BayesSpace.buildbin-libdir && F:\biocbuild\bbs-3.17-bioc\R\bin\R.exe CMD INSTALL --build --library=BayesSpace.buildbin-libdir BayesSpace_1.10.1.tar.gz StartedAt: 2023-10-16 08:27:13 -0400 (Mon, 16 Oct 2023) EndedAt: 2023-10-16 08:28:28 -0400 (Mon, 16 Oct 2023) EllapsedTime: 75.4 seconds RetCode: 0 Status: OK PackageFile: BayesSpace_1.10.1.zip PackageFileSize: 1.583 MiB