Package: BayesSpace Version: 1.10.1 Command: /home/biocbuild/bbs-3.17-bioc/R/bin/R CMD build --keep-empty-dirs --no-resave-data BayesSpace StartedAt: 2023-10-15 16:00:31 -0400 (Sun, 15 Oct 2023) EndedAt: 2023-10-15 16:02:46 -0400 (Sun, 15 Oct 2023) EllapsedTime: 135.2 seconds RetCode: 0 Status: OK PackageFile: BayesSpace_1.10.1.tar.gz PackageFileSize: 1.113 MiB