Package: BayesSpace Version: 1.10.1 Command: /Library/Frameworks/R.framework/Resources/bin/R CMD INSTALL BayesSpace StartedAt: 2023-10-15 16:25:17 -0400 (Sun, 15 Oct 2023) EndedAt: 2023-10-15 16:28:18 -0400 (Sun, 15 Oct 2023) EllapsedTime: 181.5 seconds RetCode: 0 Status: OK