Package: BayesSpace Version: 1.10.1 Command: /Library/Frameworks/R.framework/Resources/bin/R CMD build --keep-empty-dirs --no-resave-data BayesSpace StartedAt: 2023-10-15 16:51:24 -0400 (Sun, 15 Oct 2023) EndedAt: 2023-10-15 16:58:05 -0400 (Sun, 15 Oct 2023) EllapsedTime: 400.7 seconds RetCode: 0 Status: OK PackageFile: BayesSpace_1.10.1.tar.gz PackageFileSize: 1.118 MiB