Package: BayesSpace Version: 1.10.1 Command: rm -rf BayesSpace.buildbin-libdir && mkdir BayesSpace.buildbin-libdir && /Users/biocbuild/BBS/utils/build-universal.sh BayesSpace_1.10.1.tar.gz /Library/Frameworks/R.framework/Resources/bin/R BayesSpace.buildbin-libdir StartedAt: 2023-10-16 09:00:07 -0400 (Mon, 16 Oct 2023) EndedAt: 2023-10-16 09:03:28 -0400 (Mon, 16 Oct 2023) EllapsedTime: 201.4 seconds RetCode: 0 Status: OK PackageFile: BayesSpace_1.10.1.tgz PackageFileSize: 1.355 MiB