Package: BaseSpaceR Version: 1.44.0 Command: F:\biocbuild\bbs-3.17-bioc\R\bin\R.exe CMD check --no-multiarch --install=check:BaseSpaceR.install-out.txt --library=F:\biocbuild\bbs-3.17-bioc\R\library --no-vignettes --timings BaseSpaceR_1.44.0.tar.gz StartedAt: 2023-10-15 23:41:16 -0400 (Sun, 15 Oct 2023) EndedAt: 2023-10-15 23:42:04 -0400 (Sun, 15 Oct 2023) EllapsedTime: 48.2 seconds RetCode: 0 Status: WARNINGS CheckDir: BaseSpaceR.Rcheck Warnings: 1