Package: BaseSpaceR Version: 1.44.0 Command: /home/biocbuild/bbs-3.17-bioc/R/bin/R CMD check --install=check:BaseSpaceR.install-out.txt --library=/home/biocbuild/bbs-3.17-bioc/R/site-library --timings BaseSpaceR_1.44.0.tar.gz StartedAt: 2023-10-15 19:22:59 -0400 (Sun, 15 Oct 2023) EndedAt: 2023-10-15 19:24:05 -0400 (Sun, 15 Oct 2023) EllapsedTime: 65.3 seconds RetCode: 0 Status: WARNINGS CheckDir: BaseSpaceR.Rcheck Warnings: 1