Package: BaseSpaceR Version: 1.44.0 Command: /home/biocbuild/bbs-3.17-bioc/R/bin/R CMD build --keep-empty-dirs --no-resave-data BaseSpaceR StartedAt: 2023-10-15 15:59:44 -0400 (Sun, 15 Oct 2023) EndedAt: 2023-10-15 16:00:04 -0400 (Sun, 15 Oct 2023) EllapsedTime: 19.2 seconds RetCode: 0 Status: OK PackageFile: BaseSpaceR_1.44.0.tar.gz PackageFileSize: 425 KiB