Package: BaseSpaceR Version: 1.44.0 Command: /Library/Frameworks/R.framework/Resources/bin/R CMD check --install=check:BaseSpaceR.install-out.txt --library=/Library/Frameworks/R.framework/Resources/library --no-vignettes --timings BaseSpaceR_1.44.0.tar.gz StartedAt: 2023-10-15 22:46:10 -0400 (Sun, 15 Oct 2023) EndedAt: 2023-10-15 22:47:43 -0400 (Sun, 15 Oct 2023) EllapsedTime: 92.2 seconds RetCode: 0 Status: WARNINGS CheckDir: BaseSpaceR.Rcheck Warnings: 1