Package: BaseSpaceR Version: 1.44.0 Command: /Library/Frameworks/R.framework/Resources/bin/R CMD build --keep-empty-dirs --no-resave-data BaseSpaceR StartedAt: 2023-10-15 16:50:12 -0400 (Sun, 15 Oct 2023) EndedAt: 2023-10-15 16:50:51 -0400 (Sun, 15 Oct 2023) EllapsedTime: 39.2 seconds RetCode: 0 Status: OK PackageFile: BaseSpaceR_1.44.0.tar.gz PackageFileSize: 581.7 KiB