Package: BaalChIP Version: 1.26.0 Command: rm -rf BaalChIP.buildbin-libdir && mkdir BaalChIP.buildbin-libdir && F:\biocbuild\bbs-3.17-bioc\R\bin\R.exe CMD INSTALL --build --library=BaalChIP.buildbin-libdir BaalChIP_1.26.0.tar.gz StartedAt: 2023-10-16 08:26:10 -0400 (Mon, 16 Oct 2023) EndedAt: 2023-10-16 08:28:03 -0400 (Mon, 16 Oct 2023) EllapsedTime: 112.5 seconds RetCode: 0 Status: OK PackageFile: BaalChIP_1.26.0.zip PackageFileSize: 106.5 MiB