Package: BaalChIP Version: 1.26.0 Command: /home/biocbuild/bbs-3.17-bioc/R/bin/R CMD INSTALL BaalChIP StartedAt: 2023-10-15 15:32:50 -0400 (Sun, 15 Oct 2023) EndedAt: 2023-10-15 15:34:07 -0400 (Sun, 15 Oct 2023) EllapsedTime: 77.1 seconds RetCode: 0 Status: OK