Package: BaalChIP Version: 1.26.0 Command: /home/biocbuild/bbs-3.17-bioc/R/bin/R CMD build --keep-empty-dirs --no-resave-data BaalChIP StartedAt: 2023-10-15 15:58:06 -0400 (Sun, 15 Oct 2023) EndedAt: 2023-10-15 16:00:24 -0400 (Sun, 15 Oct 2023) EllapsedTime: 137.5 seconds RetCode: 0 Status: OK PackageFile: BaalChIP_1.26.0.tar.gz PackageFileSize: 45.15 MiB