Package: BaalChIP Version: 1.26.0 Command: /Library/Frameworks/R.framework/Resources/bin/R CMD check --install=check:BaalChIP.install-out.txt --library=/Library/Frameworks/R.framework/Resources/library --no-vignettes --timings BaalChIP_1.26.0.tar.gz StartedAt: 2023-10-15 22:41:26 -0400 (Sun, 15 Oct 2023) EndedAt: 2023-10-15 23:11:13 -0400 (Sun, 15 Oct 2023) EllapsedTime: 1787.1 seconds RetCode: 0 Status: WARNINGS CheckDir: BaalChIP.Rcheck Warnings: 1